BEGIN:VCALENDAR
VERSION:2.0
PRODID:-//Premier Event &amp; Entertainment Center - ECPv6.7.0//NONSGML v1.0//EN
CALSCALE:GREGORIAN
METHOD:PUBLISH
X-WR-CALNAME:Premier Event &amp; Entertainment Center
X-ORIGINAL-URL:https://premierpeoria.com
X-WR-CALDESC:Events for Premier Event &amp; Entertainment Center
REFRESH-INTERVAL;VALUE=DURATION:PT1H
X-Robots-Tag:noindex
X-PUBLISHED-TTL:PT1H
BEGIN:VTIMEZONE
TZID:America/Chicago
BEGIN:DAYLIGHT
TZOFFSETFROM:-0600
TZOFFSETTO:-0500
TZNAME:CDT
DTSTART:20230312T080000
END:DAYLIGHT
BEGIN:STANDARD
TZOFFSETFROM:-0500
TZOFFSETTO:-0600
TZNAME:CST
DTSTART:20231105T070000
END:STANDARD
END:VTIMEZONE
BEGIN:VEVENT
DTSTART;TZID=America/Chicago:20230510T190000
DTEND;TZID=America/Chicago:20230510T235500
DTSTAMP:20260423T213245
CREATED:20230302T214133Z
LAST-MODIFIED:20230308T212149Z
UID:10000011-1683745200-1683762900@premierpeoria.com
SUMMARY:The Wood Brothers
DESCRIPTION:W/ SHOVELS & ROPE\, 21+\, DOORS: 7pm//SHOW: 8PM
URL:https://premierpeoria.com/event/the-wood-brothers/
LOCATION:Premier Event Center\, 3214 N Dries Lane\, Peoria\, IL\, 61604\, United States
END:VEVENT
END:VCALENDAR