BEGIN:VCALENDAR
VERSION:2.0
PRODID:-//Premier Event &amp; Entertainment Center - ECPv6.7.0//NONSGML v1.0//EN
CALSCALE:GREGORIAN
METHOD:PUBLISH
X-WR-CALNAME:Premier Event &amp; Entertainment Center
X-ORIGINAL-URL:https://premierpeoria.com
X-WR-CALDESC:Events for Premier Event &amp; Entertainment Center
REFRESH-INTERVAL;VALUE=DURATION:PT1H
X-Robots-Tag:noindex
X-PUBLISHED-TTL:PT1H
BEGIN:VTIMEZONE
TZID:America/Chicago
BEGIN:DAYLIGHT
TZOFFSETFROM:-0600
TZOFFSETTO:-0500
TZNAME:CDT
DTSTART:20220313T080000
END:DAYLIGHT
BEGIN:STANDARD
TZOFFSETFROM:-0500
TZOFFSETTO:-0600
TZNAME:CST
DTSTART:20221106T070000
END:STANDARD
END:VTIMEZONE
BEGIN:VEVENT
DTSTART;VALUE=DATE:20220918
DTEND;VALUE=DATE:20220919
DTSTAMP:20260424T030639
CREATED:20220628T165815Z
LAST-MODIFIED:20230222T192658Z
UID:10000008-1663459200-1663545599@premierpeoria.com
SUMMARY:Private Event
DESCRIPTION:Premier Event & Entertainment Center is having a private event at this time.
URL:https://premierpeoria.com/event/private-event-3/
LOCATION:Premier Event Center\, 3214 N Dries Lane\, Peoria\, IL\, 61604\, United States
CATEGORIES:Private Event
END:VEVENT
END:VCALENDAR